BEGIN:VCALENDAR
VERSION:2.0
PRODID:-//UP SAIL Disability Network - ECPv6.15.19//NONSGML v1.0//EN
CALSCALE:GREGORIAN
METHOD:PUBLISH
X-ORIGINAL-URL:https://www.upsail.org
X-WR-CALDESC:Events for UP SAIL Disability Network
REFRESH-INTERVAL;VALUE=DURATION:PT1H
X-Robots-Tag:noindex
X-PUBLISHED-TTL:PT1H
BEGIN:VTIMEZONE
TZID:America/Detroit
BEGIN:DAYLIGHT
TZOFFSETFROM:-0500
TZOFFSETTO:-0400
TZNAME:EDT
DTSTART:20250309T070000
END:DAYLIGHT
BEGIN:STANDARD
TZOFFSETFROM:-0400
TZOFFSETTO:-0500
TZNAME:EST
DTSTART:20251102T060000
END:STANDARD
BEGIN:DAYLIGHT
TZOFFSETFROM:-0500
TZOFFSETTO:-0400
TZNAME:EDT
DTSTART:20260308T070000
END:DAYLIGHT
BEGIN:STANDARD
TZOFFSETFROM:-0400
TZOFFSETTO:-0500
TZNAME:EST
DTSTART:20261101T060000
END:STANDARD
BEGIN:DAYLIGHT
TZOFFSETFROM:-0500
TZOFFSETTO:-0400
TZNAME:EDT
DTSTART:20270314T070000
END:DAYLIGHT
BEGIN:STANDARD
TZOFFSETFROM:-0400
TZOFFSETTO:-0500
TZNAME:EST
DTSTART:20271107T060000
END:STANDARD
END:VTIMEZONE
BEGIN:VTIMEZONE
TZID:America/Chicago
BEGIN:DAYLIGHT
TZOFFSETFROM:-0600
TZOFFSETTO:-0500
TZNAME:CDT
DTSTART:20250309T080000
END:DAYLIGHT
BEGIN:STANDARD
TZOFFSETFROM:-0500
TZOFFSETTO:-0600
TZNAME:CST
DTSTART:20251102T070000
END:STANDARD
BEGIN:DAYLIGHT
TZOFFSETFROM:-0600
TZOFFSETTO:-0500
TZNAME:CDT
DTSTART:20260308T080000
END:DAYLIGHT
BEGIN:STANDARD
TZOFFSETFROM:-0500
TZOFFSETTO:-0600
TZNAME:CST
DTSTART:20261101T070000
END:STANDARD
BEGIN:DAYLIGHT
TZOFFSETFROM:-0600
TZOFFSETTO:-0500
TZNAME:CDT
DTSTART:20270314T080000
END:DAYLIGHT
BEGIN:STANDARD
TZOFFSETFROM:-0500
TZOFFSETTO:-0600
TZNAME:CST
DTSTART:20271107T070000
END:STANDARD
END:VTIMEZONE
BEGIN:VEVENT
DTSTART;TZID=America/Detroit:20260618T183000
DTEND;TZID=America/Detroit:20260618T200000
DTSTAMP:20260421T220608
CREATED:20260406T153934Z
LAST-MODIFIED:20260406T153934Z
UID:17056-1781807400-1781812800@www.upsail.org
SUMMARY:MARQUETTE - That 70's Indepen-Dance
DESCRIPTION:Image description begins. The text on the SPAR flyer reads. That 70’s Indepen-dance. Get ready to boogie with a 70’s themed SPAR Indepen-dance! Bring your bellbottoms and disco dance moves and get transported back to the groovy 70’s on Thursday\, June 18th\, 2026\, from 6:30 pm to 8:00 pm\, at Powerhouse Gym\, located at 1025 West Washington Street\, Suite D\, in Marquette. There will be snacks\, non-alcoholic drinks\, board games\, and music provided by DJ Danny Sackett! This is a relaxed\, accessible activity\, and no experience is needed. SPAR events are free\, and materials are provided unless noted otherwise. For more information\, call 906-228-5744 or email tims@upsail.org. Hosted by SAIL Disability Network of the U.P. Image description ends.
URL:https://www.upsail.org/event/marquette-that-70s-indepen-dance/
LOCATION:Powerhouse Gym\, 1025 W Washington St. Suite D\, Marquette\, MI\, 49855\, United States
CATEGORIES:Marquette
ATTACH;FMTTYPE=image/jpeg:https://www.upsail.org/wp-content/uploads/2026/04/MQT-June-Independance-scaled.jpg
END:VEVENT
BEGIN:VEVENT
DTSTART;TZID=America/Detroit:20260622T103000
DTEND;TZID=America/Detroit:20260622T113000
DTSTAMP:20260421T220608
CREATED:20260420T133845Z
LAST-MODIFIED:20260420T133845Z
UID:17160-1782124200-1782127800@www.upsail.org
SUMMARY:MARQUETTE - Making Rice Krispie Treats
DESCRIPTION:Image description begins. The text on the SPAR flyer reads. Making Rice Krispie Treats with SPAR. Let’s have fun making this classic and easy sweet treat together on Monday\, June 22nd\, 2026\, from 10:30 am to 11:30 am\, at the SAIL Office\, located at 1025 West Washington Street\, Suite C\, in Marquette. This is a relaxed\, accessible activity\, and no experience is needed. SPAR events are free\, and materials are provided unless noted otherwise. To sign up and be notified of updates or cancellations\, please call 906-228-5744 or email tims@upsail.org. Hosted by SAIL Disability Network of the U.P. Image description ends.
URL:https://www.upsail.org/event/marquette-making-rice-krispie-treats/
LOCATION:SAIL Office\, 1025 West Washington Street Suite C\, Marquette\, MI\, 49855\, United States
CATEGORIES:Marquette
ATTACH;FMTTYPE=image/jpeg:https://www.upsail.org/wp-content/uploads/2026/04/MQT-Cooking-Laura-June-scaled.jpg
END:VEVENT
BEGIN:VEVENT
DTSTART;TZID=America/Chicago:20260622T113000
DTEND;TZID=America/Chicago:20260622T123000
DTSTAMP:20260421T220608
CREATED:20260420T133616Z
LAST-MODIFIED:20260420T133616Z
UID:17125-1782127800-1782131400@www.upsail.org
SUMMARY:IRON RIVER - Take a Hike with SPAR
DESCRIPTION:Image description begins. The text on the flyer reads. Take a Hike with SPAR. Join SPAR for a leisure hike to get out in nature and discover a fun trail on Monday\, June 22nd\, 2026\, from 11:30 am to 12:30 pm Central Time\, at Nanaimo Park\, located at 406 West Sturgeon Street in Iron River. This is a relaxed\, accessible activity. No experience is needed. SPAR events are free\, and materials are provided unless noted otherwise. To sign up and be notified of updates or cancellations\, please call 906-228-5744 or email tims@upsail.org. Hosted by SAIL Disability Network of the U.P. Image description ends.
URL:https://www.upsail.org/event/iron-river-take-a-hike-with-spar/
LOCATION:Nanaimo Park\, 406 West Sturgeon Street\, Iron River\, MI\, 49935\, United States
CATEGORIES:Iron County
ATTACH;FMTTYPE=image/jpeg:https://www.upsail.org/wp-content/uploads/2026/04/IRN-June.jpg
END:VEVENT
BEGIN:VEVENT
DTSTART;TZID=America/Detroit:20260623T130000
DTEND;TZID=America/Detroit:20260623T150000
DTSTAMP:20260421T220608
CREATED:20260420T133337Z
LAST-MODIFIED:20260420T153832Z
UID:17142-1782219600-1782226800@www.upsail.org
SUMMARY:MARQUETTE - Summer Adaptive Biking Club
DESCRIPTION:Image description begins. The text on the flyer reads. 2026 SPAR Marquette Bike Club. Join SPAR for a relaxed\, accessible bike ride on Tuesday\, June 23rd\, 2026\, from 1:00 pm to 3:00 pm. The ride begins and ends at Superior Mini Storage 2120 Sugar Loaf Avenue\, Marquette with a break at McCarty’s Cove with snacks before riding back. You must call to register by June 22nd to help us ensure we have enough bikes ready for everyone\, and it allows us to contact you quickly if changing conditions require us to cancel. This is a relaxed\, accessible activity\, and no experience is needed. SPAR events are free\, and materials are provided unless noted otherwise. Please call 906-228-5744 or email tims@upsail.org to sign up so we can share any updates or cancellations. Hosted by SAIL Disability Network of the U.P. Image description ends.
URL:https://www.upsail.org/event/marquette-summer-adaptive-biking-club/
LOCATION:Superior Mini Storage\, 2120 Sugar Loaf Ave\, Marquette\, MI\, 49855\, United States
CATEGORIES:Marquette
ATTACH;FMTTYPE=image/jpeg:https://www.upsail.org/wp-content/uploads/2026/04/Q2-MAR-Bike-club-flyer-1.jpg
END:VEVENT
BEGIN:VEVENT
DTSTART;TZID=America/Detroit:20260624T123000
DTEND;TZID=America/Detroit:20260624T133000
DTSTAMP:20260421T220608
CREATED:20260406T154222Z
LAST-MODIFIED:20260415T141734Z
UID:17036-1782304200-1782307800@www.upsail.org
SUMMARY:SAULT SAINTE MARIE - Adaptive Bike Expo and Lawn Games
DESCRIPTION:Image description begins. The text on the SPAR flyer reads. Adaptive Bike Expo and Lawn Games. Join SPAR for a leisurely opportunity to try out some of our adaptive bikes or bring your own! There will be lawn games\, board games\, and tasty summer snacks on Wednesday\, June 24th\, 2026\, from 12:30 pm to 1:30 pm\, at Sherman Park\, located at 1515 24th Street W\, in Sault Sainte Marie. This is a relaxed\, accessible activity. No experience is needed. SPAR events are free\, and materials are provided unless noted otherwise. To sign up and be notified of updates or cancellations\, please call 906-228-5744 or email tims@upsail.org. Hosted by SAIL Disability Network of the U.P. Image description ends.
URL:https://www.upsail.org/event/sault-ste-marie-biking-and-lawn-games/
LOCATION:Sherman Park\, 1515 24th Street W\, Sault Ste. Marie\, MI\, 49783\, United States
CATEGORIES:Sault Ste. Marie
ATTACH;FMTTYPE=image/jpeg:https://www.upsail.org/wp-content/uploads/2026/04/SSM-June-1-scaled.jpg
END:VEVENT
BEGIN:VEVENT
DTSTART;TZID=America/Chicago:20260625T123000
DTEND;TZID=America/Chicago:20260625T133000
DTSTAMP:20260421T220608
CREATED:20260325T161511Z
LAST-MODIFIED:20260325T161511Z
UID:17004-1782390600-1782394200@www.upsail.org
SUMMARY:KINGSFORD - Biking and Lawn Games
DESCRIPTION:Image description begins. The text on the SPAR flyer reads. Biking and Lawn Games. Join SPAR for a leisurely opportunity to try out some of our adaptive bikes or bring your own! There will be lawn games\, board games\, and tasty summer snacks on Thursday\, June 25th\, 2026\, from 12:30 pm to 1:30 pm Central Time\, at Forever Friendship Drop-In Center\, located at 501 South Carpenter Avenue\, Suite D\, in Kingsford. This is a relaxed\, accessible activity. No experience is needed. SPAR events are free\, and materials are provided unless noted otherwise. You do not need to be a consumer of Forever Friendship Drop-In Center to attend this event. To sign up and be notified of updates or cancellations\, please call 906-228-5744 or email tims@upsail.org. Hosted by SAIL Disability Network of the U.P. Image description ends.
URL:https://www.upsail.org/event/kingsford-biking-and-lawn-games/
LOCATION:Forever Friendship Drop-In Center\, 501 S Carpenter Ave Suite D\, Kingsford\, MI\, 49802\, United States
CATEGORIES:Kingsford
ATTACH;FMTTYPE=image/jpeg:https://www.upsail.org/wp-content/uploads/2026/03/KNG-June.jpg
END:VEVENT
BEGIN:VEVENT
DTSTART;TZID=America/Detroit:20260626T100000
DTEND;TZID=America/Detroit:20260626T113000
DTSTAMP:20260421T220608
CREATED:20260420T131939Z
LAST-MODIFIED:20260420T131939Z
UID:17118-1782468000-1782473400@www.upsail.org
SUMMARY:MARQUETTE - SPAR Social
DESCRIPTION:Image description begins. The text on the SPAR flyer reads. SPAR Social. Come see old friends\, make some new ones\, and enjoy a light-hearted hour of video games\, board games\, crafts\, and snacks on Friday\, June 26th\, 2026\, from 10:00 am to 11:30 am\, at the SAIL Office\, located at 1025 West Washington Street\, Suite C\, in Marquette. This is a relaxed\, accessible activity\, and no experience is needed. SPAR events are free\, and materials are provided unless noted otherwise. To sign up and be notified of updates or cancellations\, please call 906-228-5744 or email tims@upsail.org. Hosted by SAIL Disability Network of the U.P. Image description ends.
URL:https://www.upsail.org/event/marquette-spar-social-6/
LOCATION:SAIL Office\, 1025 West Washington Street Suite C\, Marquette\, MI\, 49855\, United States
CATEGORIES:Marquette
ATTACH;FMTTYPE=image/jpeg:https://www.upsail.org/wp-content/uploads/2026/04/MQT-Social-June-scaled.jpg
END:VEVENT
END:VCALENDAR