BEGIN:VCALENDAR
VERSION:2.0
PRODID:-//UP SAIL Disability Network - ECPv6.15.19//NONSGML v1.0//EN
CALSCALE:GREGORIAN
METHOD:PUBLISH
X-WR-CALNAME:UP SAIL Disability Network
X-ORIGINAL-URL:https://www.upsail.org
X-WR-CALDESC:Events for UP SAIL Disability Network
REFRESH-INTERVAL;VALUE=DURATION:PT1H
X-Robots-Tag:noindex
X-PUBLISHED-TTL:PT1H
BEGIN:VTIMEZONE
TZID:America/Detroit
BEGIN:DAYLIGHT
TZOFFSETFROM:-0500
TZOFFSETTO:-0400
TZNAME:EDT
DTSTART:20240310T070000
END:DAYLIGHT
BEGIN:STANDARD
TZOFFSETFROM:-0400
TZOFFSETTO:-0500
TZNAME:EST
DTSTART:20241103T060000
END:STANDARD
BEGIN:DAYLIGHT
TZOFFSETFROM:-0500
TZOFFSETTO:-0400
TZNAME:EDT
DTSTART:20250309T070000
END:DAYLIGHT
BEGIN:STANDARD
TZOFFSETFROM:-0400
TZOFFSETTO:-0500
TZNAME:EST
DTSTART:20251102T060000
END:STANDARD
BEGIN:DAYLIGHT
TZOFFSETFROM:-0500
TZOFFSETTO:-0400
TZNAME:EDT
DTSTART:20260308T070000
END:DAYLIGHT
BEGIN:STANDARD
TZOFFSETFROM:-0400
TZOFFSETTO:-0500
TZNAME:EST
DTSTART:20261101T060000
END:STANDARD
END:VTIMEZONE
BEGIN:VTIMEZONE
TZID:America/Chicago
BEGIN:DAYLIGHT
TZOFFSETFROM:-0600
TZOFFSETTO:-0500
TZNAME:CDT
DTSTART:20240310T080000
END:DAYLIGHT
BEGIN:STANDARD
TZOFFSETFROM:-0500
TZOFFSETTO:-0600
TZNAME:CST
DTSTART:20241103T070000
END:STANDARD
BEGIN:DAYLIGHT
TZOFFSETFROM:-0600
TZOFFSETTO:-0500
TZNAME:CDT
DTSTART:20250309T080000
END:DAYLIGHT
BEGIN:STANDARD
TZOFFSETFROM:-0500
TZOFFSETTO:-0600
TZNAME:CST
DTSTART:20251102T070000
END:STANDARD
BEGIN:DAYLIGHT
TZOFFSETFROM:-0600
TZOFFSETTO:-0500
TZNAME:CDT
DTSTART:20260308T080000
END:DAYLIGHT
BEGIN:STANDARD
TZOFFSETFROM:-0500
TZOFFSETTO:-0600
TZNAME:CST
DTSTART:20261101T070000
END:STANDARD
END:VTIMEZONE
BEGIN:VEVENT
DTSTART;TZID=America/Detroit:20251027T113000
DTEND;TZID=America/Detroit:20251027T123000
DTSTAMP:20260425T180314
CREATED:20250925T143858Z
LAST-MODIFIED:20250925T150653Z
UID:16219-1761564600-1761568200@www.upsail.org
SUMMARY:MANISTIQUE - Monster Mask Craft
DESCRIPTION:Image description begins. The text on the flyer reads. Monster Mask Craft. Join us to craft a fun monster mask and create a story for your creature at the Manistique Senior Center\, located at 101 Main Street in Manistique\, from 11:30 am to 12:30 pm\, on Monday\, October 27th\, 2025. Supplies provided\, just bring your creativity! Please call 906-228-5744 or email tims@upsail.org to sign up so we can contact you if there are any updates or cancellations. Hosted by SAIL Disability Network of the U.P. Image description ends.
URL:https://www.upsail.org/event/manistique-monster-mask-craft/
LOCATION:Manistique Senior Center\, 101 Main Street\, Manistique\, MI\, 49854\, United States
CATEGORIES:Manistique
ATTACH;FMTTYPE=application/pdf:https://www.upsail.org/wp-content/uploads/2025/09/MAN-MonsterCraft.pdf
END:VEVENT
BEGIN:VEVENT
DTSTART;TZID=America/Chicago:20251027T113000
DTEND;TZID=America/Chicago:20251027T123000
DTSTAMP:20260425T180314
CREATED:20250925T131204Z
LAST-MODIFIED:20250925T131204Z
UID:16128-1761564600-1761568200@www.upsail.org
SUMMARY:IRON RIVER - Pumpkin Painting
DESCRIPTION:Image description begins. The text on the flyer reads. Pumpkin Painting. Paint a silly\, sassy\, or spooky face for a pumpkin that you can take home\, if you dare\, at the Windsor Center Room 505\, located at 612 West Adams Street in Iron River\, from 11:30 am to 12:30 pm Central Time on Monday\, October 27th\, 2025. All you need to bring is your creativity\, SAIL will provide everything else! Adaptive painting tools will be available. Please call 906-228-5744 or email tims@upsail.org to sign up so we can contact you if there are any updates or cancellations. Hosted by SAIL Disability Network of the U.P. Image description ends.
URL:https://www.upsail.org/event/iron-river-pumpkin-painting/
LOCATION:Windsor Center Room 305\, 612 W Adams St.\, Iron River\, MI\, 49935\, United States
CATEGORIES:Iron County
ATTACH;FMTTYPE=application/pdf:https://www.upsail.org/wp-content/uploads/2025/09/IRN-Pumpkins.pdf
END:VEVENT
END:VCALENDAR