BEGIN:VCALENDAR
VERSION:2.0
PRODID:-//UP SAIL Disability Network - ECPv6.15.19//NONSGML v1.0//EN
CALSCALE:GREGORIAN
METHOD:PUBLISH
X-WR-CALNAME:UP SAIL Disability Network
X-ORIGINAL-URL:https://www.upsail.org
X-WR-CALDESC:Events for UP SAIL Disability Network
REFRESH-INTERVAL;VALUE=DURATION:PT1H
X-Robots-Tag:noindex
X-PUBLISHED-TTL:PT1H
BEGIN:VTIMEZONE
TZID:America/Detroit
BEGIN:DAYLIGHT
TZOFFSETFROM:-0500
TZOFFSETTO:-0400
TZNAME:EDT
DTSTART:20250309T070000
END:DAYLIGHT
BEGIN:STANDARD
TZOFFSETFROM:-0400
TZOFFSETTO:-0500
TZNAME:EST
DTSTART:20251102T060000
END:STANDARD
BEGIN:DAYLIGHT
TZOFFSETFROM:-0500
TZOFFSETTO:-0400
TZNAME:EDT
DTSTART:20260308T070000
END:DAYLIGHT
BEGIN:STANDARD
TZOFFSETFROM:-0400
TZOFFSETTO:-0500
TZNAME:EST
DTSTART:20261101T060000
END:STANDARD
BEGIN:DAYLIGHT
TZOFFSETFROM:-0500
TZOFFSETTO:-0400
TZNAME:EDT
DTSTART:20270314T070000
END:DAYLIGHT
BEGIN:STANDARD
TZOFFSETFROM:-0400
TZOFFSETTO:-0500
TZNAME:EST
DTSTART:20271107T060000
END:STANDARD
END:VTIMEZONE
BEGIN:VEVENT
DTSTART;TZID=America/Detroit:20260501T113000
DTEND;TZID=America/Detroit:20260501T123000
DTSTAMP:20260423T100546
CREATED:20260406T153208Z
LAST-MODIFIED:20260406T153208Z
UID:17059-1777635000-1777638600@www.upsail.org
SUMMARY:NEWBERRY - Nature Walk
DESCRIPTION:Image description begins. The text on the SPAR flyer reads. Nature Walk. Join SPAR for a leisurely walk in the woods. We will look for birds and flowers to identify and revel in all things Spring on Friday\, May 1st\, 2026\, from 11:30 am to 12:30 pm\, at Hamilton Lake Nature Area\, located at the end of Hamilton Lake Road in Newberry. This is a relaxed\, accessible activity. No experience is needed. SPAR events are free\, and materials are provided unless noted otherwise. To sign up and be notified of updates or cancellations\, please call 906-228-5744 or email tims@upsail.org. Hosted by SAIL Disability Network of the U.P. Image description ends.
URL:https://www.upsail.org/event/newberry-nature-walk/
LOCATION:Hamilton Lake Natural Area\, End of Hamilton Lake Road\, Newberry\, MI\, 49868\, United States
CATEGORIES:Newberry
ATTACH;FMTTYPE=image/jpeg:https://www.upsail.org/wp-content/uploads/2026/04/NEW-May.jpg
END:VEVENT
BEGIN:VEVENT
DTSTART;TZID=America/Detroit:20260612T113000
DTEND;TZID=America/Detroit:20260612T123000
DTSTAMP:20260423T100546
CREATED:20260325T161021Z
LAST-MODIFIED:20260422T173738Z
UID:16994-1781263800-1781267400@www.upsail.org
SUMMARY:NEWBERRY - Adaptive Bike Expo and Lawn Games
DESCRIPTION:Image description begins. The text on the SPAR flyer reads. Adaptive Bike Expo and Lawn Games. Join SPAR for a leisurely opportunity to try out some of our adaptive bikes or bring your own! There will be lawn games\, board games\, and tasty summer snacks on Friday\, June 12th\, 2026\, from 11:30 am to 12:30 pm\, at the Tahquamenon Outdoor Recreation Complex\, behind the Highline Building\, located at 8793 Falls Road in Newberry. This is a relaxed\, accessible activity. No experience is needed. SPAR events are free\, and materials are provided unless noted otherwise. To sign up and be notified of updates or cancellations\, please call 906-228-5744 or email tims@upsail.org. Hosted by SAIL Disability Network of the U.P. Image description ends.
URL:https://www.upsail.org/event/newberry-biking-and-lawn-games/
LOCATION:Tahquamenon Outdoor Recreation Complex\, 8793 Falls Road\, Newberry\, MI\, 49868\, United States
CATEGORIES:Newberry
ATTACH;FMTTYPE=image/jpeg:https://www.upsail.org/wp-content/uploads/2026/03/NEW-June-1-scaled.jpg
END:VEVENT
END:VCALENDAR