BEGIN:VCALENDAR
VERSION:2.0
PRODID:-//UP SAIL Disability Network - ECPv6.15.19//NONSGML v1.0//EN
CALSCALE:GREGORIAN
METHOD:PUBLISH
X-WR-CALNAME:UP SAIL Disability Network
X-ORIGINAL-URL:https://www.upsail.org
X-WR-CALDESC:Events for UP SAIL Disability Network
REFRESH-INTERVAL;VALUE=DURATION:PT1H
X-Robots-Tag:noindex
X-PUBLISHED-TTL:PT1H
BEGIN:VTIMEZONE
TZID:America/Detroit
BEGIN:DAYLIGHT
TZOFFSETFROM:-0500
TZOFFSETTO:-0400
TZNAME:EDT
DTSTART:20240310T070000
END:DAYLIGHT
BEGIN:STANDARD
TZOFFSETFROM:-0400
TZOFFSETTO:-0500
TZNAME:EST
DTSTART:20241103T060000
END:STANDARD
BEGIN:DAYLIGHT
TZOFFSETFROM:-0500
TZOFFSETTO:-0400
TZNAME:EDT
DTSTART:20250309T070000
END:DAYLIGHT
BEGIN:STANDARD
TZOFFSETFROM:-0400
TZOFFSETTO:-0500
TZNAME:EST
DTSTART:20251102T060000
END:STANDARD
BEGIN:DAYLIGHT
TZOFFSETFROM:-0500
TZOFFSETTO:-0400
TZNAME:EDT
DTSTART:20260308T070000
END:DAYLIGHT
BEGIN:STANDARD
TZOFFSETFROM:-0400
TZOFFSETTO:-0500
TZNAME:EST
DTSTART:20261101T060000
END:STANDARD
BEGIN:DAYLIGHT
TZOFFSETFROM:-0500
TZOFFSETTO:-0400
TZNAME:EDT
DTSTART:20270314T070000
END:DAYLIGHT
BEGIN:STANDARD
TZOFFSETFROM:-0400
TZOFFSETTO:-0500
TZNAME:EST
DTSTART:20271107T060000
END:STANDARD
END:VTIMEZONE
BEGIN:VEVENT
DTSTART;TZID=America/Detroit:20260403T113000
DTEND;TZID=America/Detroit:20260403T123000
DTSTAMP:20260423T113934
CREATED:20260323T160235Z
LAST-MODIFIED:20260323T184133Z
UID:16938-1775215800-1775219400@www.upsail.org
SUMMARY:NEWBERRY - Macramé Hanging Planter Craft
DESCRIPTION:Image description begins. The text on the SPAR flyer reads. Macramé Hanging Planter Craft. Celebrate Spring and Earth Month by creating your own macramé hanging planter using recycled materials. Decorate your planter and take home a unique piece of art on Friday\, April 3rd\, 2026\, from 11:30 am to 12:30 pm\, at Tahqua Journey Drop-In Center\, located at 302 Newberry Avenue in Newberry. This is a relaxed\, accessible activity. No experience is needed. SPAR events are free\, and materials are provided unless noted otherwise. This event is open to Tahqua Journey Drop-In Center members only\, but you can sign up to be a member for free when you’re there! To sign up and be notified of updates or cancellations\, please call 906-228-5744 or email tims@upsail.org. Hosted by SAIL Disability Network of the U.P. Image description ends.
URL:https://www.upsail.org/event/newberry-macrame-hanging-planter-craft/
LOCATION:Tahqua Journey Drop-In Center\, 302 Newberry Ave\, Newberry\, MI\, 49868\, United States
CATEGORIES:Newberry
ATTACH;FMTTYPE=image/jpeg:https://www.upsail.org/wp-content/uploads/2026/03/NEW-April-1-scaled.jpg
END:VEVENT
BEGIN:VEVENT
DTSTART;TZID=America/Detroit:20260306T113000
DTEND;TZID=America/Detroit:20260306T123000
DTSTAMP:20260423T113934
CREATED:20260120T143157Z
LAST-MODIFIED:20260120T143157Z
UID:16619-1772796600-1772800200@www.upsail.org
SUMMARY:NEWBERRY - Shamrock Suncatcher Craft
DESCRIPTION:Image description begins. The text on the flyer reads. Shamrock Suncatcher Craft. March is the perfect month to chase leprechauns and sunbeams. We’d feel lucky to have you join us as we create cheerful shamrock suncatchers to brighten your windows and welcome the season on Friday\, March 6th\, 2026\, at the Tahqua Journey Drop-In Center\, located at 302 Newberry Avenue\, in Newberry\, from 11:30 am to 12:30 pm. This event is open to Tahqua Journey Drop-In Center members only\, but you can sign up to be a member when you’re there! Please call 906-228-5744 or email tims@upsail.org to sign up so we can contact you if there are any updates or cancellations. Hosted by SAIL Disability Network of the U.P. Image description ends.
URL:https://www.upsail.org/event/newberry-shamrock-suncatcher-craft/
LOCATION:Tahqua Journey Drop-In Center\, 302 Newberry Ave\, Newberry\, MI\, 49868\, United States
CATEGORIES:Newberry
ATTACH;FMTTYPE=image/jpeg:https://www.upsail.org/wp-content/uploads/2025/12/NEW-Shamrock-Sun-YES-scaled.jpg
END:VEVENT
BEGIN:VEVENT
DTSTART;TZID=America/Detroit:20260206T113000
DTEND;TZID=America/Detroit:20260206T123000
DTSTAMP:20260423T113934
CREATED:20260120T135856Z
LAST-MODIFIED:20260120T135856Z
UID:16604-1770377400-1770381000@www.upsail.org
SUMMARY:NEWBERRY - Mardi Gras Crafts
DESCRIPTION:Image description begins. The text on the flyer reads. Mardi Gras Crafts. Mardi Gras is a lively celebration filled with parades\, music\, and vibrant costumes. Join SPAR as we embrace the spirit of the season by creating colorful streamer wands and festive masks on Friday\, February 6th\, 2026\, at the Tahqua Journey Drop-In Center\, located at 302 Newberry Avenue\, in Newberry\, from 11:30 am to 12:30 pm. This event is open to Tahqua Journey Drop-In Center members only\, but you can sign up to be a member when you’re there! Please call 906-228-5744 or email tims@upsail.org to sign up so we can contact you if there are any updates or cancellations. Hosted by SAIL Disability Network of the U.P. Image description ends.
URL:https://www.upsail.org/event/newberry-mardi-gras-crafts/
LOCATION:Tahqua Journey Drop-In Center\, 302 Newberry Ave\, Newberry\, MI\, 49868\, United States
CATEGORIES:Newberry
ATTACH;FMTTYPE=image/jpeg:https://www.upsail.org/wp-content/uploads/2025/12/NEW-Mardi-GrasYES-scaled.jpg
END:VEVENT
BEGIN:VEVENT
DTSTART;TZID=America/Detroit:20260109T113000
DTEND;TZID=America/Detroit:20260109T123000
DTSTAMP:20260423T113934
CREATED:20251218T133236Z
LAST-MODIFIED:20260109T155549Z
UID:16486-1767958200-1767961800@www.upsail.org
SUMMARY:NEWBERRY - Snowshoeing
DESCRIPTION:Image description begins. The text on the flyer reads. Snowshoeing. Join SPAR for a relaxed\, accessible hour of snowshoeing for all experience levels. Snowshoes and poles are provided\, just dress warmly with boots\, hats\, mittens\, and layers to stay comfortable in the winter weather on Friday\, January 9th\, 2026\, at Hamilton Lake Natural Area\, located at the end of Hamilton Lake Road\, in Newberry\, from 11:30 am to 12:30 pm. Please call 906-228-5744 or email tims@upsail.org to sign up so we can contact you if there are any updates or cancellations. Hosted by SAIL Disability Network of the U.P. Image description ends.
URL:https://www.upsail.org/event/newberry-snowshoeing/
LOCATION:Hamilton Lake Natural Area\, End of Hamilton Lake Road\, Newberry\, MI\, 49868\, United States
CATEGORIES:Newberry
ATTACH;FMTTYPE=image/jpeg:https://www.upsail.org/wp-content/uploads/2025/12/NEW-snowshoeYES-scaled.jpg
END:VEVENT
BEGIN:VEVENT
DTSTART;TZID=America/Detroit:20251205T113000
DTEND;TZID=America/Detroit:20251205T123000
DTSTAMP:20260423T113934
CREATED:20250925T164755Z
LAST-MODIFIED:20250925T164755Z
UID:16096-1764934200-1764937800@www.upsail.org
SUMMARY:NEWBERRY - Holiday Party and Games
DESCRIPTION:Image description begins. The text on the flyer reads. Holiday Party and Games. Join SPAR for holiday fun with crafts\, snacks\, and reindeer games at Tahqua Journey Drop-In Center\, located at 302 Newberry Avenue in Newberry\, from 11:30 am to 12:30 pm on Friday\, December 5th\, 2025. This event is open to Tahqua Journey Drop-In Center members only\, but you can sign up to be a member when you’re there! To sign up for updates or cancellations\, please call 906-228-5744 or email tims@upsail.org. Hosted by SAIL Disability Network of the U.P. Image description ends.
URL:https://www.upsail.org/event/newberry-holiday-party-and-games/
LOCATION:Tahqua Journey Drop-In Center\, 302 Newberry Ave\, Newberry\, MI\, 49868\, United States
CATEGORIES:Newberry
ATTACH;FMTTYPE=application/pdf:https://www.upsail.org/wp-content/uploads/2025/08/NEW-Holiday-Party.pdf
END:VEVENT
BEGIN:VEVENT
DTSTART;TZID=America/Detroit:20251121T113000
DTEND;TZID=America/Detroit:20251121T123000
DTSTAMP:20260423T113934
CREATED:20250925T154438Z
LAST-MODIFIED:20250925T154438Z
UID:16094-1763724600-1763728200@www.upsail.org
SUMMARY:NEWBERRY - Indoor Bowling
DESCRIPTION:Image description begins. The text on the flyer reads. Indoor Bowling. Join us for indoor bowling at the Tahqua Journey Drop-In Center\, located at 302 Newberry Avenue in Newberry\, from 11:30 am to 12:30 pm on Friday\, November 21st\, 2025. Adaptive balls and a ramp will be available! This event is open to Tahqua Journey Drop-In Center members only\, but you can sign up to be a member when you’re there! To sign up for updates or cancellations\, please call 906-228-5744 or email tims@upsail.org. Hosted by SAIL Disability Network of the U.P. Image description ends.
URL:https://www.upsail.org/event/newberry-indoor-bowling/
LOCATION:Tahqua Journey Drop-In Center\, 302 Newberry Ave\, Newberry\, MI\, 49868\, United States
CATEGORIES:Newberry
ATTACH;FMTTYPE=application/pdf:https://www.upsail.org/wp-content/uploads/2025/08/NEW-IndoorBowling.pdf
END:VEVENT
BEGIN:VEVENT
DTSTART;TZID=America/Detroit:20251114T113000
DTEND;TZID=America/Detroit:20251114T123000
DTSTAMP:20260423T113934
CREATED:20250925T153725Z
LAST-MODIFIED:20250925T153725Z
UID:16092-1763119800-1763123400@www.upsail.org
SUMMARY:NEWBERRY - Craft and Stretch
DESCRIPTION:Image description begins. The text on the flyer reads. Craft and Stretch. Get creative and design your own mug to take home and enjoy\, then unwind with a cozy\, adaptive stretch to thank your body at the Tahqua Journey Drop-In Center\, located at 302 Newberry Avenue in Newberry\, from 11:30 am to 12:30 pm on Friday\, November 14th\, 2025. This event is open to Tahqua Journey Drop-In Center members only\, but you can sign up to be a member when you’re there! To sign up for updates or cancellations\, please call 906-228-5744 or email tims@upsail.org. Hosted by SAIL Disability Network of the U.P. Image description ends.
URL:https://www.upsail.org/event/newberry-craft-and-stretch/
LOCATION:Tahqua Journey Drop-In Center\, 302 Newberry Ave\, Newberry\, MI\, 49868\, United States
CATEGORIES:Newberry
ATTACH;FMTTYPE=application/pdf:https://www.upsail.org/wp-content/uploads/2025/08/NEW-GratStretch-Mugs.pdf
END:VEVENT
BEGIN:VEVENT
DTSTART;TZID=America/Detroit:20251024T113000
DTEND;TZID=America/Detroit:20251024T123000
DTSTAMP:20260423T113934
CREATED:20250925T131025Z
LAST-MODIFIED:20250925T131025Z
UID:16090-1761305400-1761309000@www.upsail.org
SUMMARY:NEWBERRY - Monster Mask Craft
DESCRIPTION:Image description begins. The text on the flyer reads. Monster Mask Craft. Join us to craft a fun monster mask and create a story for your creature at Tahqua Journey Drop-In Center\, located at 302 Newberry Avenue in Newberry\, from 11:30 am to 12:30 pm on Friday\, October 24th\, 2025. Supplies provided\, just bring your creativity! This event is open to Tahqua Journey Drop-In Center members only\, but you can sign up to be a member when you’re there! To sign up for updates or cancellations\, please call 906-228-5744 or email tims@upsail.org. Hosted by SAIL Disability Network of the U.P. Image description ends.
URL:https://www.upsail.org/event/newberry-monster-mask-craft/
LOCATION:Tahqua Journey Drop-In Center\, 302 Newberry Ave\, Newberry\, MI\, 49868\, United States
CATEGORIES:Newberry
ATTACH;FMTTYPE=application/pdf:https://www.upsail.org/wp-content/uploads/2025/08/NEW-MonsterCraft.pdf
END:VEVENT
END:VCALENDAR