BEGIN:VCALENDAR
VERSION:2.0
PRODID:-//UP SAIL Disability Network - ECPv6.15.19//NONSGML v1.0//EN
CALSCALE:GREGORIAN
METHOD:PUBLISH
X-ORIGINAL-URL:https://www.upsail.org
X-WR-CALDESC:Events for UP SAIL Disability Network
REFRESH-INTERVAL;VALUE=DURATION:PT1H
X-Robots-Tag:noindex
X-PUBLISHED-TTL:PT1H
BEGIN:VTIMEZONE
TZID:America/Detroit
BEGIN:DAYLIGHT
TZOFFSETFROM:-0500
TZOFFSETTO:-0400
TZNAME:EDT
DTSTART:20250309T070000
END:DAYLIGHT
BEGIN:STANDARD
TZOFFSETFROM:-0400
TZOFFSETTO:-0500
TZNAME:EST
DTSTART:20251102T060000
END:STANDARD
BEGIN:DAYLIGHT
TZOFFSETFROM:-0500
TZOFFSETTO:-0400
TZNAME:EDT
DTSTART:20260308T070000
END:DAYLIGHT
BEGIN:STANDARD
TZOFFSETFROM:-0400
TZOFFSETTO:-0500
TZNAME:EST
DTSTART:20261101T060000
END:STANDARD
BEGIN:DAYLIGHT
TZOFFSETFROM:-0500
TZOFFSETTO:-0400
TZNAME:EDT
DTSTART:20270314T070000
END:DAYLIGHT
BEGIN:STANDARD
TZOFFSETFROM:-0400
TZOFFSETTO:-0500
TZNAME:EST
DTSTART:20271107T060000
END:STANDARD
END:VTIMEZONE
BEGIN:VEVENT
DTSTART;TZID=America/Detroit:20260306T113000
DTEND;TZID=America/Detroit:20260306T123000
DTSTAMP:20260423T103149
CREATED:20260120T143157Z
LAST-MODIFIED:20260120T143157Z
UID:16619-1772796600-1772800200@www.upsail.org
SUMMARY:NEWBERRY - Shamrock Suncatcher Craft
DESCRIPTION:Image description begins. The text on the flyer reads. Shamrock Suncatcher Craft. March is the perfect month to chase leprechauns and sunbeams. We’d feel lucky to have you join us as we create cheerful shamrock suncatchers to brighten your windows and welcome the season on Friday\, March 6th\, 2026\, at the Tahqua Journey Drop-In Center\, located at 302 Newberry Avenue\, in Newberry\, from 11:30 am to 12:30 pm. This event is open to Tahqua Journey Drop-In Center members only\, but you can sign up to be a member when you’re there! Please call 906-228-5744 or email tims@upsail.org to sign up so we can contact you if there are any updates or cancellations. Hosted by SAIL Disability Network of the U.P. Image description ends.
URL:https://www.upsail.org/event/newberry-shamrock-suncatcher-craft/
LOCATION:Tahqua Journey Drop-In Center\, 302 Newberry Ave\, Newberry\, MI\, 49868\, United States
CATEGORIES:Newberry
ATTACH;FMTTYPE=image/jpeg:https://www.upsail.org/wp-content/uploads/2025/12/NEW-Shamrock-Sun-YES-scaled.jpg
END:VEVENT
END:VCALENDAR