BEGIN:VCALENDAR
VERSION:2.0
PRODID:-//UP SAIL Disability Network - ECPv6.15.19//NONSGML v1.0//EN
CALSCALE:GREGORIAN
METHOD:PUBLISH
X-ORIGINAL-URL:https://www.upsail.org
X-WR-CALDESC:Events for UP SAIL Disability Network
REFRESH-INTERVAL;VALUE=DURATION:PT1H
X-Robots-Tag:noindex
X-PUBLISHED-TTL:PT1H
BEGIN:VTIMEZONE
TZID:America/Detroit
BEGIN:DAYLIGHT
TZOFFSETFROM:-0500
TZOFFSETTO:-0400
TZNAME:EDT
DTSTART:20240310T070000
END:DAYLIGHT
BEGIN:STANDARD
TZOFFSETFROM:-0400
TZOFFSETTO:-0500
TZNAME:EST
DTSTART:20241103T060000
END:STANDARD
BEGIN:DAYLIGHT
TZOFFSETFROM:-0500
TZOFFSETTO:-0400
TZNAME:EDT
DTSTART:20250309T070000
END:DAYLIGHT
BEGIN:STANDARD
TZOFFSETFROM:-0400
TZOFFSETTO:-0500
TZNAME:EST
DTSTART:20251102T060000
END:STANDARD
BEGIN:DAYLIGHT
TZOFFSETFROM:-0500
TZOFFSETTO:-0400
TZNAME:EDT
DTSTART:20260308T070000
END:DAYLIGHT
BEGIN:STANDARD
TZOFFSETFROM:-0400
TZOFFSETTO:-0500
TZNAME:EST
DTSTART:20261101T060000
END:STANDARD
END:VTIMEZONE
BEGIN:VEVENT
DTSTART;TZID=America/Detroit:20251205T113000
DTEND;TZID=America/Detroit:20251205T123000
DTSTAMP:20260423T183428
CREATED:20250925T164755Z
LAST-MODIFIED:20250925T164755Z
UID:16096-1764934200-1764937800@www.upsail.org
SUMMARY:NEWBERRY - Holiday Party and Games
DESCRIPTION:Image description begins. The text on the flyer reads. Holiday Party and Games. Join SPAR for holiday fun with crafts\, snacks\, and reindeer games at Tahqua Journey Drop-In Center\, located at 302 Newberry Avenue in Newberry\, from 11:30 am to 12:30 pm on Friday\, December 5th\, 2025. This event is open to Tahqua Journey Drop-In Center members only\, but you can sign up to be a member when you’re there! To sign up for updates or cancellations\, please call 906-228-5744 or email tims@upsail.org. Hosted by SAIL Disability Network of the U.P. Image description ends.
URL:https://www.upsail.org/event/newberry-holiday-party-and-games/
LOCATION:Tahqua Journey Drop-In Center\, 302 Newberry Ave\, Newberry\, MI\, 49868\, United States
CATEGORIES:Newberry
ATTACH;FMTTYPE=application/pdf:https://www.upsail.org/wp-content/uploads/2025/08/NEW-Holiday-Party.pdf
END:VEVENT
END:VCALENDAR