BEGIN:VCALENDAR
VERSION:2.0
PRODID:-//UP SAIL Disability Network - ECPv6.15.19//NONSGML v1.0//EN
CALSCALE:GREGORIAN
METHOD:PUBLISH
X-WR-CALNAME:UP SAIL Disability Network
X-ORIGINAL-URL:https://www.upsail.org
X-WR-CALDESC:Events for UP SAIL Disability Network
REFRESH-INTERVAL;VALUE=DURATION:PT1H
X-Robots-Tag:noindex
X-PUBLISHED-TTL:PT1H
BEGIN:VTIMEZONE
TZID:America/Detroit
BEGIN:DAYLIGHT
TZOFFSETFROM:-0500
TZOFFSETTO:-0400
TZNAME:EDT
DTSTART:20240310T070000
END:DAYLIGHT
BEGIN:STANDARD
TZOFFSETFROM:-0400
TZOFFSETTO:-0500
TZNAME:EST
DTSTART:20241103T060000
END:STANDARD
BEGIN:DAYLIGHT
TZOFFSETFROM:-0500
TZOFFSETTO:-0400
TZNAME:EDT
DTSTART:20250309T070000
END:DAYLIGHT
BEGIN:STANDARD
TZOFFSETFROM:-0400
TZOFFSETTO:-0500
TZNAME:EST
DTSTART:20251102T060000
END:STANDARD
BEGIN:DAYLIGHT
TZOFFSETFROM:-0500
TZOFFSETTO:-0400
TZNAME:EDT
DTSTART:20260308T070000
END:DAYLIGHT
BEGIN:STANDARD
TZOFFSETFROM:-0400
TZOFFSETTO:-0500
TZNAME:EST
DTSTART:20261101T060000
END:STANDARD
BEGIN:DAYLIGHT
TZOFFSETFROM:-0500
TZOFFSETTO:-0400
TZNAME:EDT
DTSTART:20270314T070000
END:DAYLIGHT
BEGIN:STANDARD
TZOFFSETFROM:-0400
TZOFFSETTO:-0500
TZNAME:EST
DTSTART:20271107T060000
END:STANDARD
END:VTIMEZONE
BEGIN:VEVENT
DTSTART;TZID=America/Detroit:20260409T110000
DTEND;TZID=America/Detroit:20260409T120000
DTSTAMP:20260422T172129
CREATED:20260325T152802Z
LAST-MODIFIED:20260408T162446Z
UID:17022-1775732400-1775736000@www.upsail.org
SUMMARY:MANISTIQUE - Macramé Hanging Planter Craft (Originally Take a Hike with SPAR)
DESCRIPTION:Due to the snow\, this event has been changed from Take a Hike with SPAR at the Environmental Education Laboratory to Macramé Hanging Planter Craft at the Manistique Senior Center. \n\nThursday\, April 9th\, 2026\nManistique Senior Center\n101 Main Street\, Manistique\n11:00 am – 12:00 pm\n\n\n\n\nAll SPAR events are free\, accessible\, and open to anyone in the U.P. who identifies with a disability! No experience is needed\, and you do not need to be a recipient of the Manistique Senior Center’s services to attend!\n\n\n\n\nPlease call or email to sign up so we can share any updates or cancellations!\n\n\n\n906-228-5744\ntims@upsail.org\n\n\n\n\n\nHosted by SAIL Disability Network of the U.P. \n______________________________________________________ \nImage description begins. The text on the SPAR flyer reads. Macramé Hanging Planter Craft. Celebrate Spring and Earth Month by creating your own macramé hanging planter using recycled materials. Decorate your planter and take home a unique piece of art on Thursday\, April 9th\, 2026\, from 11:00 am to 12:00 pm\, at the Manistique Senior Center\, located at 101 Main Street in Manistique. This is a relaxed\, accessible activity. No experience is needed. SPAR events are free\, and materials are provided unless noted otherwise. You do not need to be a consumer of the Manistique Senior Center to participate. To sign up and be notified of updates or cancellations\, please call 906-228-5744 or email tims@upsail.org. Hosted by SAIL Disability Network of the U.P. Image description ends.
URL:https://www.upsail.org/event/manistique-take-a-hike-with-spar/
LOCATION:Manistique Senior Center\, 101 Main Street\, Manistique\, MI\, 49854\, United States
CATEGORIES:Manistique
ATTACH;FMTTYPE=image/jpeg:https://www.upsail.org/wp-content/uploads/2026/03/MAN-April-1-1-scaled.jpg
END:VEVENT
BEGIN:VEVENT
DTSTART;TZID=America/Detroit:20260326T110000
DTEND;TZID=America/Detroit:20260326T120000
DTSTAMP:20260422T172129
CREATED:20260120T143405Z
LAST-MODIFIED:20260120T143405Z
UID:16633-1774522800-1774526400@www.upsail.org
SUMMARY:MANISTIQUE - Snowshoeing
DESCRIPTION:Image description begins. The text on the flyer reads. Snowshoeing. Join SPAR for a relaxed\, accessible hour of snowshoeing for all experience levels. Snowshoes and poles are provided\, just dress warmly for winter weather on Thursday\, March 26th\, 2026\, at the Environmental Education Laboratory\, located at the end of Krummich Road in Manistique\, from 11:00 am to 12:00 pm. Please call 906-228-5744 or email tims@upsail.org to sign up so we can contact you if there are any updates or cancellations. Hosted by SAIL Disability Network of the U.P. Image description ends.
URL:https://www.upsail.org/event/manistique-snowshoeing-2/
LOCATION:Environmental Education Laboratory\, Krummich Road\, Manistique\, MI\, 49854\, United States
CATEGORIES:Manistique
ATTACH;FMTTYPE=image/jpeg:https://www.upsail.org/wp-content/uploads/2025/12/MAN-snowshoeYES-1-scaled.jpg
END:VEVENT
BEGIN:VEVENT
DTSTART;TZID=America/Detroit:20260226T110000
DTEND;TZID=America/Detroit:20260226T120000
DTSTAMP:20260422T172129
CREATED:20260120T141458Z
LAST-MODIFIED:20260120T141458Z
UID:16630-1772103600-1772107200@www.upsail.org
SUMMARY:MANISTIQUE - Mardi Gras Crafts
DESCRIPTION:Image description begins. The text on the flyer reads. Mardi Gras Crafts. Mardi Gras is a lively celebration filled with parades\, music\, and vibrant costumes. Join SPAR as we embrace the spirit of the season by creating colorful streamer wands and festive masks on Thursday\, February 26th\, 2026\, at First Baptist Church\, located at 319 Walnut Street\, in Manistique\, from 11:00 am to 12:00 pm. Please call 906-228-5744 or email tims@upsail.org to sign up so we can contact you if there are any updates or cancellations. Hosted by SAIL Disability Network of the U.P. Image description ends.
URL:https://www.upsail.org/event/manistique-mardi-gras-crafts/
LOCATION:First Baptist Church\, 319 Walnut Street\, Manistique\, MI\, 49855\, United States
CATEGORIES:Manistique
ATTACH;FMTTYPE=image/jpeg:https://www.upsail.org/wp-content/uploads/2025/12/MAN-MardiGrasYES-1-scaled.jpg
END:VEVENT
BEGIN:VEVENT
DTSTART;TZID=America/Detroit:20260129T110000
DTEND;TZID=America/Detroit:20260129T120000
DTSTAMP:20260422T172129
CREATED:20251218T141025Z
LAST-MODIFIED:20260105T143336Z
UID:16588-1769684400-1769688000@www.upsail.org
SUMMARY:MANISTIQUE - Snowshoeing
DESCRIPTION:Image description begins. The text on the flyer reads. Snowshoeing. Join SPAR for a relaxed\, accessible hour of snowshoeing for all experience levels. Snowshoes and poles are provided; just dress warmly for winter weather on Thursday\, January 29th\, 2026\, at the Environmental Education Laboratory\, located at the end of Krummich Road in Manistique\, from 11:00 am to 12:00 pm. Please call 906-228-5744 or email tims@upsail.org to sign up so we can contact you if there are any updates or cancellations. Hosted by SAIL Disability Network of the U.P. Image description ends.
URL:https://www.upsail.org/event/manistique-snowshoeing/
LOCATION:Environmental Education Laboratory\, Krummich Road\, Manistique\, MI\, 49854\, United States
CATEGORIES:Manistique
ATTACH;FMTTYPE=image/jpeg:https://www.upsail.org/wp-content/uploads/2025/12/MAN-snowshoeYES-scaled.jpg
END:VEVENT
BEGIN:VEVENT
DTSTART;TZID=America/Detroit:20251208T113000
DTEND;TZID=America/Detroit:20251208T123000
DTSTAMP:20260422T172129
CREATED:20250925T164959Z
LAST-MODIFIED:20250925T164959Z
UID:16269-1765193400-1765197000@www.upsail.org
SUMMARY:MANISTIQUE - Holiday Party
DESCRIPTION:Image description begins. The text on the flyer reads. Holiday Party and Games. Join SPAR for holiday fun with crafts\, snacks\, and reindeer games at the Manistique Senior Center\, located at 101 Main Street in Manistique\, from 11:30 am to 12:30 pm\, on Monday\, December 8th\, 2025. Please call 906-228-5744 or email tims@upsail.org to sign up so we can contact you if there are any updates or cancellations. Hosted by SAIL Disability Network of the U.P. Image description ends.
URL:https://www.upsail.org/event/manistique-holiday-party/
LOCATION:Manistique Senior Center\, 101 Main Street\, Manistique\, MI\, 49854\, United States
CATEGORIES:Manistique
ATTACH;FMTTYPE=application/pdf:https://www.upsail.org/wp-content/uploads/2025/09/MAN-Holiday-Party.pdf
END:VEVENT
BEGIN:VEVENT
DTSTART;TZID=America/Detroit:20251124T113000
DTEND;TZID=America/Detroit:20251124T123000
DTSTAMP:20260422T172129
CREATED:20250925T154620Z
LAST-MODIFIED:20250925T154620Z
UID:16256-1763983800-1763987400@www.upsail.org
SUMMARY:MANISTIQUE - Thankful Bakery Craft
DESCRIPTION:Image description begins. The text on the flyer reads. Thankful Bakery Craft. Create your own slice of gratitude! A fun\, accessible\, hands-on craft to celebrate what you’re thankful for atthe Manistique Senior Center\, located at 101 Main Street in Manistique\, from 11:30 am to 12:30 pm\, on Monday\, November 24th\, 2025. Please call 906-228-5744 or email tims@upsail.org to sign up so we can contact you if there are any updates or cancellations. Hosted by SAIL Disability Network of the U.P. Image description ends.
URL:https://www.upsail.org/event/manistique-thankful-bakery-craft/
LOCATION:Manistique Senior Center\, 101 Main Street\, Manistique\, MI\, 49854\, United States
CATEGORIES:Manistique
ATTACH;FMTTYPE=application/pdf:https://www.upsail.org/wp-content/uploads/2025/09/MAN-Thanksbake.pdf
END:VEVENT
BEGIN:VEVENT
DTSTART;TZID=America/Detroit:20251103T113000
DTEND;TZID=America/Detroit:20251103T123000
DTSTAMP:20260422T172129
CREATED:20250925T151640Z
LAST-MODIFIED:20250925T151640Z
UID:16229-1762169400-1762173000@www.upsail.org
SUMMARY:MANISTIQUE - Craft and Stretch
DESCRIPTION:Image description begins. The text on the flyer reads. Craft and Stretch. Get creative and decorate your own mug to take home and enjoy\, then take some time to thank your body with a cozy\, adaptive stretch at the Manistique Senior Center\, located at 101 Main Street in Manistique\, from 11:30 am to 12:30 pm\, on Monday\, November 3rd\, 2025. Please call 906-228-5744 or email tims@upsail.org to sign up so we can contact you if there are any updates or cancellations. Hosted by SAIL Disability Network of the U.P. Image description ends.
URL:https://www.upsail.org/event/manistique-craft-and-stretch/
LOCATION:Manistique Senior Center\, 101 Main Street\, Manistique\, MI\, 49854\, United States
CATEGORIES:Manistique
ATTACH;FMTTYPE=application/pdf:https://www.upsail.org/wp-content/uploads/2025/09/MAN-GratStretch-Mugs.pdf
END:VEVENT
BEGIN:VEVENT
DTSTART;TZID=America/Detroit:20251027T113000
DTEND;TZID=America/Detroit:20251027T123000
DTSTAMP:20260422T172129
CREATED:20250925T143858Z
LAST-MODIFIED:20250925T150653Z
UID:16219-1761564600-1761568200@www.upsail.org
SUMMARY:MANISTIQUE - Monster Mask Craft
DESCRIPTION:Image description begins. The text on the flyer reads. Monster Mask Craft. Join us to craft a fun monster mask and create a story for your creature at the Manistique Senior Center\, located at 101 Main Street in Manistique\, from 11:30 am to 12:30 pm\, on Monday\, October 27th\, 2025. Supplies provided\, just bring your creativity! Please call 906-228-5744 or email tims@upsail.org to sign up so we can contact you if there are any updates or cancellations. Hosted by SAIL Disability Network of the U.P. Image description ends.
URL:https://www.upsail.org/event/manistique-monster-mask-craft/
LOCATION:Manistique Senior Center\, 101 Main Street\, Manistique\, MI\, 49854\, United States
CATEGORIES:Manistique
ATTACH;FMTTYPE=application/pdf:https://www.upsail.org/wp-content/uploads/2025/09/MAN-MonsterCraft.pdf
END:VEVENT
END:VCALENDAR