BEGIN:VCALENDAR
VERSION:2.0
PRODID:-//UP SAIL Disability Network - ECPv6.15.19//NONSGML v1.0//EN
CALSCALE:GREGORIAN
METHOD:PUBLISH
X-ORIGINAL-URL:https://www.upsail.org
X-WR-CALDESC:Events for UP SAIL Disability Network
REFRESH-INTERVAL;VALUE=DURATION:PT1H
X-Robots-Tag:noindex
X-PUBLISHED-TTL:PT1H
BEGIN:VTIMEZONE
TZID:America/Detroit
BEGIN:DAYLIGHT
TZOFFSETFROM:-0500
TZOFFSETTO:-0400
TZNAME:EDT
DTSTART:20240310T070000
END:DAYLIGHT
BEGIN:STANDARD
TZOFFSETFROM:-0400
TZOFFSETTO:-0500
TZNAME:EST
DTSTART:20241103T060000
END:STANDARD
BEGIN:DAYLIGHT
TZOFFSETFROM:-0500
TZOFFSETTO:-0400
TZNAME:EDT
DTSTART:20250309T070000
END:DAYLIGHT
BEGIN:STANDARD
TZOFFSETFROM:-0400
TZOFFSETTO:-0500
TZNAME:EST
DTSTART:20251102T060000
END:STANDARD
BEGIN:DAYLIGHT
TZOFFSETFROM:-0500
TZOFFSETTO:-0400
TZNAME:EDT
DTSTART:20260308T070000
END:DAYLIGHT
BEGIN:STANDARD
TZOFFSETFROM:-0400
TZOFFSETTO:-0500
TZNAME:EST
DTSTART:20261101T060000
END:STANDARD
END:VTIMEZONE
BEGIN:VEVENT
DTSTART;TZID=America/Detroit:20251021T133000
DTEND;TZID=America/Detroit:20251021T143000
DTSTAMP:20260420T152225
CREATED:20250925T125703Z
LAST-MODIFIED:20250925T125703Z
UID:16116-1761053400-1761057000@www.upsail.org
SUMMARY:L'ANSE - Monster Mask Craft
DESCRIPTION:Image description begins. The text on the flyer reads. Monster Mask Craft. Join us to craft a fun monster mask and create a story for your creature at Copper Country Community Mental Health\, located at 15644 Skanee Road in L’Anse\, from 1:30 pm to 2:30 pm on Tuesday\, October 21st\, 2025. Supplies provided\, just bring your creativity! Please call 906-228-5744 or email tims@upsail.org to sign up so we can contact you if there are any updates or cancellations. Hosted by SAIL Disability Network of the U.P. Image description ends.
URL:https://www.upsail.org/event/lanse-monster-mask-craft/
LOCATION:Copper Country Community Mental Health Center (L’Anse)\, 15644 Skanee Rd\, L'Anse\, MI\, 49946\, United States
CATEGORIES:L'Anse
ATTACH;FMTTYPE=application/pdf:https://www.upsail.org/wp-content/uploads/2025/09/LAN-MonsterCraft.pdf
END:VEVENT
END:VCALENDAR