BEGIN:VCALENDAR
VERSION:2.0
PRODID:-//UP SAIL Disability Network - ECPv6.15.19//NONSGML v1.0//EN
CALSCALE:GREGORIAN
METHOD:PUBLISH
X-ORIGINAL-URL:https://www.upsail.org
X-WR-CALDESC:Events for UP SAIL Disability Network
REFRESH-INTERVAL;VALUE=DURATION:PT1H
X-Robots-Tag:noindex
X-PUBLISHED-TTL:PT1H
BEGIN:VTIMEZONE
TZID:America/Chicago
BEGIN:DAYLIGHT
TZOFFSETFROM:-0600
TZOFFSETTO:-0500
TZNAME:CDT
DTSTART:20250309T080000
END:DAYLIGHT
BEGIN:STANDARD
TZOFFSETFROM:-0500
TZOFFSETTO:-0600
TZNAME:CST
DTSTART:20251102T070000
END:STANDARD
BEGIN:DAYLIGHT
TZOFFSETFROM:-0600
TZOFFSETTO:-0500
TZNAME:CDT
DTSTART:20260308T080000
END:DAYLIGHT
BEGIN:STANDARD
TZOFFSETFROM:-0500
TZOFFSETTO:-0600
TZNAME:CST
DTSTART:20261101T070000
END:STANDARD
BEGIN:DAYLIGHT
TZOFFSETFROM:-0600
TZOFFSETTO:-0500
TZNAME:CDT
DTSTART:20270314T080000
END:DAYLIGHT
BEGIN:STANDARD
TZOFFSETFROM:-0500
TZOFFSETTO:-0600
TZNAME:CST
DTSTART:20271107T070000
END:STANDARD
END:VTIMEZONE
BEGIN:VEVENT
DTSTART;TZID=America/Chicago:20260423T123000
DTEND;TZID=America/Chicago:20260423T133000
DTSTAMP:20260423T214700
CREATED:20260325T153736Z
LAST-MODIFIED:20260325T153736Z
UID:16961-1776947400-1776951000@www.upsail.org
SUMMARY:KINGSFORD - Macramé Hanging Planter Craft
DESCRIPTION:Image description begins. The text on the SPAR flyer reads. Macramé Hanging Planter Craft. Celebrate Spring and Earth Month by creating your own macramé hanging planter using recycled materials. Decorate your planter and take home a unique piece of art on Thursday\, April 23rd\, 2026\, from 12:30 pm to 1:30 pm Central Time\, at Forever Friendship Drop-In Center\, located at 501 South Carpenter Avenue\, Suite D\, in Kingsford. This is a relaxed\, accessible activity. No experience is needed. SPAR events are free\, and materials are provided unless noted otherwise. You do not need to be a consumer of Forever Friendship Drop-In Center to attend this event. To sign up and be notified of updates or cancellations\, please call 906-228-5744 or email tims@upsail.org. Hosted by SAIL Disability Network of the U.P. Image description ends.
URL:https://www.upsail.org/event/kingsford-macrame-hanging-planter-craft/
LOCATION:Forever Friendship Drop-In Center\, 501 S Carpenter Ave Suite D\, Kingsford\, MI\, 49802\, United States
CATEGORIES:Kingsford
ATTACH;FMTTYPE=image/jpeg:https://www.upsail.org/wp-content/uploads/2026/03/KNG-April-scaled.jpg
END:VEVENT
END:VCALENDAR