BEGIN:VCALENDAR
VERSION:2.0
PRODID:-//UP SAIL Disability Network - ECPv6.15.19//NONSGML v1.0//EN
CALSCALE:GREGORIAN
METHOD:PUBLISH
X-WR-CALNAME:UP SAIL Disability Network
X-ORIGINAL-URL:https://www.upsail.org
X-WR-CALDESC:Events for UP SAIL Disability Network
REFRESH-INTERVAL;VALUE=DURATION:PT1H
X-Robots-Tag:noindex
X-PUBLISHED-TTL:PT1H
BEGIN:VTIMEZONE
TZID:America/Detroit
BEGIN:DAYLIGHT
TZOFFSETFROM:-0500
TZOFFSETTO:-0400
TZNAME:EDT
DTSTART:20250309T070000
END:DAYLIGHT
BEGIN:STANDARD
TZOFFSETFROM:-0400
TZOFFSETTO:-0500
TZNAME:EST
DTSTART:20251102T060000
END:STANDARD
BEGIN:DAYLIGHT
TZOFFSETFROM:-0500
TZOFFSETTO:-0400
TZNAME:EDT
DTSTART:20260308T070000
END:DAYLIGHT
BEGIN:STANDARD
TZOFFSETFROM:-0400
TZOFFSETTO:-0500
TZNAME:EST
DTSTART:20261101T060000
END:STANDARD
BEGIN:DAYLIGHT
TZOFFSETFROM:-0500
TZOFFSETTO:-0400
TZNAME:EDT
DTSTART:20270314T070000
END:DAYLIGHT
BEGIN:STANDARD
TZOFFSETFROM:-0400
TZOFFSETTO:-0500
TZNAME:EST
DTSTART:20271107T060000
END:STANDARD
END:VTIMEZONE
BEGIN:VEVENT
DTSTART;TZID=America/Detroit:20260108T103000
DTEND;TZID=America/Detroit:20260108T113000
DTSTAMP:20260421T035157
CREATED:20251218T132931Z
LAST-MODIFIED:20260105T134208Z
UID:16484-1767868200-1767871800@www.upsail.org
SUMMARY:HOUGHTON - Snowshoeing
DESCRIPTION:Image description begins. The text on the flyer reads. Snowshoeing. Join SPAR for a relaxed\, accessible hour of snowshoeing for all experience levels. Snowshoes and poles are provided\, just dress warmly with boots\, hats\, mittens\, and layers to stay comfortable in the winter weather on Thursday\, January 8th\, 2026\, at Houghton Baptist Church\, located at 2801 West Sharon Avenue\, in Houghton\, from 10:30 am to 11:30 am. Please call 906-228-5744 or email tims@upsail.org to sign up so we can contact you if there are any updates or cancellations. Hosted by SAIL Disability Network of the U.P. Image description ends.
URL:https://www.upsail.org/event/houghton-snowshoeing/
LOCATION:Houghton Baptist Church\, 2801 W Sharon Ave\, Houghton\, MI\, 49931\, United States
CATEGORIES:Houghton
ATTACH;FMTTYPE=image/jpeg:https://www.upsail.org/wp-content/uploads/2025/12/HTN-snowshoeYES-scaled.jpg
END:VEVENT
END:VCALENDAR